BEGIN:VCALENDAR
VERSION:2.0
PRODID:-//Blush Hill - ECPv6.15.18//NONSGML v1.0//EN
CALSCALE:GREGORIAN
METHOD:PUBLISH
X-ORIGINAL-URL:https://blushhillcountryclub.com
X-WR-CALDESC:Events for Blush Hill
REFRESH-INTERVAL;VALUE=DURATION:PT1H
X-Robots-Tag:noindex
X-PUBLISHED-TTL:PT1H
BEGIN:VTIMEZONE
TZID:America/Toronto
BEGIN:DAYLIGHT
TZOFFSETFROM:-0500
TZOFFSETTO:-0400
TZNAME:EDT
DTSTART:20240310T070000
END:DAYLIGHT
BEGIN:STANDARD
TZOFFSETFROM:-0400
TZOFFSETTO:-0500
TZNAME:EST
DTSTART:20241103T060000
END:STANDARD
BEGIN:DAYLIGHT
TZOFFSETFROM:-0500
TZOFFSETTO:-0400
TZNAME:EDT
DTSTART:20250309T070000
END:DAYLIGHT
BEGIN:STANDARD
TZOFFSETFROM:-0400
TZOFFSETTO:-0500
TZNAME:EST
DTSTART:20251102T060000
END:STANDARD
BEGIN:DAYLIGHT
TZOFFSETFROM:-0500
TZOFFSETTO:-0400
TZNAME:EDT
DTSTART:20260308T070000
END:DAYLIGHT
BEGIN:STANDARD
TZOFFSETFROM:-0400
TZOFFSETTO:-0500
TZNAME:EST
DTSTART:20261101T060000
END:STANDARD
END:VTIMEZONE
BEGIN:VEVENT
DTSTART;TZID=America/Toronto:20250604T160000
DTEND;TZID=America/Toronto:20250604T190000
DTSTAMP:20260425T102328
CREATED:20250401T220725Z
LAST-MODIFIED:20250401T220725Z
UID:6580-1749052800-1749063600@blushhillcountryclub.com
SUMMARY:Ladies Night
DESCRIPTION:Ladies Night welcomes lady members and non-members to participate in a friendly 9-hole game. Non-members play at a reduced rate. Call for tee times.
URL:https://blushhillcountryclub.com/event/ladies-night-40/
CATEGORIES:Ladies Night
ORGANIZER;CN="Susan Seymour":MAILTO:questions@bhccvt.com
END:VEVENT
BEGIN:VEVENT
DTSTART;TZID=America/Toronto:20250605T150000
DTEND;TZID=America/Toronto:20250605T190000
DTSTAMP:20260425T102328
CREATED:20250401T231916Z
LAST-MODIFIED:20250401T231916Z
UID:6634-1749135600-1749150000@blushhillcountryclub.com
SUMMARY:Men's League
DESCRIPTION:Men’s League continues. Tee times a must.\nDinner will be available for order\, limited quantity.
URL:https://blushhillcountryclub.com/event/mens-league-35/
CATEGORIES:Men's League
ORGANIZER;CN="George McCain":MAILTO:questions@bhccvt.com
END:VEVENT
BEGIN:VEVENT
DTSTART;TZID=America/Toronto:20250608T090000
DTEND;TZID=America/Toronto:20250608T170000
DTSTAMP:20260425T102328
CREATED:20250402T001353Z
LAST-MODIFIED:20250406T162628Z
UID:6685-1749373200-1749402000@blushhillcountryclub.com
SUMMARY:Brad Belknap Member Member
DESCRIPTION:Members are invited and encouraged to join the annual Brad Belknap Member Member Tournament. A fun\, friendly and competitive event\, we recommend signing up as soon as possible. Grab a fellow member and have a great time! 9:00 a.m. Shotgun start
URL:https://blushhillcountryclub.com/event/brad-belknap-member-member/
CATEGORIES:Special Golf Event
ORGANIZER;CN="Scott Hunter":MAILTO:questions@bhccvt.com
END:VEVENT
BEGIN:VEVENT
DTSTART;TZID=America/Toronto:20250611T160000
DTEND;TZID=America/Toronto:20250611T190000
DTSTAMP:20260425T102328
CREATED:20250401T220828Z
LAST-MODIFIED:20250401T220828Z
UID:6583-1749657600-1749668400@blushhillcountryclub.com
SUMMARY:Ladies Night
DESCRIPTION:Ladies Night welcomes lady members and non-members to participate in a friendly 9-hole game. Non-members play at a reduced rate. Call for tee times.
URL:https://blushhillcountryclub.com/event/ladies-night-41/
CATEGORIES:Ladies Night
ORGANIZER;CN="Susan Seymour":MAILTO:questions@bhccvt.com
END:VEVENT
BEGIN:VEVENT
DTSTART;TZID=America/Toronto:20250612T150000
DTEND;TZID=America/Toronto:20250612T190000
DTSTAMP:20260425T102328
CREATED:20250401T232044Z
LAST-MODIFIED:20250401T232044Z
UID:6637-1749740400-1749754800@blushhillcountryclub.com
SUMMARY:Men's League
DESCRIPTION:Men’s League continues. Tee times a must.\nDinner will be available for order\, limited quantity.
URL:https://blushhillcountryclub.com/event/mens-league-36/
CATEGORIES:Men's League
ORGANIZER;CN="George McCain":MAILTO:questions@bhccvt.com
END:VEVENT
BEGIN:VEVENT
DTSTART;TZID=America/Toronto:20250618T160000
DTEND;TZID=America/Toronto:20250618T190000
DTSTAMP:20260425T102328
CREATED:20250401T221029Z
LAST-MODIFIED:20250401T221029Z
UID:6586-1750262400-1750273200@blushhillcountryclub.com
SUMMARY:Ladies Night
DESCRIPTION:Ladies Night welcomes lady members and non-members to participate in a friendly 9-hole game. Non-members play at a reduced rate. Call for tee times.
URL:https://blushhillcountryclub.com/event/ladies-night-42/
CATEGORIES:Ladies Night
ORGANIZER;CN="Susan Seymour":MAILTO:questions@bhccvt.com
END:VEVENT
BEGIN:VEVENT
DTSTART;TZID=America/Toronto:20250619T150000
DTEND;TZID=America/Toronto:20250619T190000
DTSTAMP:20260425T102328
CREATED:20250401T232202Z
LAST-MODIFIED:20250401T232202Z
UID:6640-1750345200-1750359600@blushhillcountryclub.com
SUMMARY:Men's League
DESCRIPTION:Men’s League continues. Tee times a must.\nDinner will be available for order\, limited quantity.
URL:https://blushhillcountryclub.com/event/mens-league-37/
CATEGORIES:Men's League
ORGANIZER;CN="George McCain":MAILTO:questions@bhccvt.com
END:VEVENT
BEGIN:VEVENT
DTSTART;TZID=America/Toronto:20250625T160000
DTEND;TZID=America/Toronto:20250625T190000
DTSTAMP:20260425T102328
CREATED:20250401T221154Z
LAST-MODIFIED:20250401T221154Z
UID:6589-1750867200-1750878000@blushhillcountryclub.com
SUMMARY:Ladies Night
DESCRIPTION:Ladies Night welcomes lady members and non-members to participate in a friendly 9-hole game. Non-members play at a reduced rate. Call for tee times.
URL:https://blushhillcountryclub.com/event/ladies-night-43/
CATEGORIES:Ladies Night
ORGANIZER;CN="Susan Seymour":MAILTO:questions@bhccvt.com
END:VEVENT
BEGIN:VEVENT
DTSTART;TZID=America/Toronto:20250626T150000
DTEND;TZID=America/Toronto:20250626T190000
DTSTAMP:20260425T102328
CREATED:20250401T232334Z
LAST-MODIFIED:20250401T232334Z
UID:6643-1750950000-1750964400@blushhillcountryclub.com
SUMMARY:Men's League
DESCRIPTION:Men’s League continues. Tee times a must.\nDinner will be available for order\, limited quantity.
URL:https://blushhillcountryclub.com/event/mens-league-38/
CATEGORIES:Men's League
ORGANIZER;CN="George McCain":MAILTO:questions@bhccvt.com
END:VEVENT
END:VCALENDAR