BEGIN:VCALENDAR
VERSION:2.0
PRODID:-//Blush Hill - ECPv6.15.18//NONSGML v1.0//EN
CALSCALE:GREGORIAN
METHOD:PUBLISH
X-ORIGINAL-URL:https://blushhillcountryclub.com
X-WR-CALDESC:Events for Blush Hill
REFRESH-INTERVAL;VALUE=DURATION:PT1H
X-Robots-Tag:noindex
X-PUBLISHED-TTL:PT1H
BEGIN:VTIMEZONE
TZID:America/Toronto
BEGIN:DAYLIGHT
TZOFFSETFROM:-0500
TZOFFSETTO:-0400
TZNAME:EDT
DTSTART:20240310T070000
END:DAYLIGHT
BEGIN:STANDARD
TZOFFSETFROM:-0400
TZOFFSETTO:-0500
TZNAME:EST
DTSTART:20241103T060000
END:STANDARD
BEGIN:DAYLIGHT
TZOFFSETFROM:-0500
TZOFFSETTO:-0400
TZNAME:EDT
DTSTART:20250309T070000
END:DAYLIGHT
BEGIN:STANDARD
TZOFFSETFROM:-0400
TZOFFSETTO:-0500
TZNAME:EST
DTSTART:20251102T060000
END:STANDARD
BEGIN:DAYLIGHT
TZOFFSETFROM:-0500
TZOFFSETTO:-0400
TZNAME:EDT
DTSTART:20260308T070000
END:DAYLIGHT
BEGIN:STANDARD
TZOFFSETFROM:-0400
TZOFFSETTO:-0500
TZNAME:EST
DTSTART:20261101T060000
END:STANDARD
BEGIN:DAYLIGHT
TZOFFSETFROM:-0500
TZOFFSETTO:-0400
TZNAME:EDT
DTSTART:20270314T070000
END:DAYLIGHT
BEGIN:STANDARD
TZOFFSETFROM:-0400
TZOFFSETTO:-0500
TZNAME:EST
DTSTART:20271107T060000
END:STANDARD
END:VTIMEZONE
BEGIN:VEVENT
DTSTART;TZID=America/Toronto:20250716T160000
DTEND;TZID=America/Toronto:20250716T190000
DTSTAMP:20260425T092553
CREATED:20250401T223208Z
LAST-MODIFIED:20250401T223208Z
UID:6601-1752681600-1752692400@blushhillcountryclub.com
SUMMARY:Ladies Night
DESCRIPTION:Ladies Night welcomes lady members and non-members to participate in a friendly 9-hole game. Non-members play at a reduced rate. Call for tee times.
URL:https://blushhillcountryclub.com/event/ladies-night-47/
CATEGORIES:Ladies Night
ORGANIZER;CN="Susan Seymour":MAILTO:questions@bhccvt.com
END:VEVENT
BEGIN:VEVENT
DTSTART;TZID=America/Toronto:20250723T160000
DTEND;TZID=America/Toronto:20250723T190000
DTSTAMP:20260425T092553
CREATED:20250401T223424Z
LAST-MODIFIED:20250401T223424Z
UID:6604-1753286400-1753297200@blushhillcountryclub.com
SUMMARY:Ladies Night
DESCRIPTION:Ladies Night welcomes lady members and non-members to participate in a friendly 9-hole game. Non-members play at a reduced rate. Call for tee times.
URL:https://blushhillcountryclub.com/event/ladies-night-48/
CATEGORIES:Ladies Night
ORGANIZER;CN="Susan Seymour":MAILTO:questions@bhccvt.com
END:VEVENT
BEGIN:VEVENT
DTSTART;TZID=America/Toronto:20250730T160000
DTEND;TZID=America/Toronto:20250730T190000
DTSTAMP:20260425T092553
CREATED:20250401T223658Z
LAST-MODIFIED:20250401T223658Z
UID:6607-1753891200-1753902000@blushhillcountryclub.com
SUMMARY:Ladies Night
DESCRIPTION:Ladies Night welcomes lady members and non-members to participate in a friendly 9-hole game. Non-members play at a reduced rate. Call for tee times.
URL:https://blushhillcountryclub.com/event/ladies-night-49/
CATEGORIES:Ladies Night
ORGANIZER;CN="Susan Seymour":MAILTO:questions@bhccvt.com
END:VEVENT
BEGIN:VEVENT
DTSTART;TZID=America/Toronto:20250806T160000
DTEND;TZID=America/Toronto:20250806T190000
DTSTAMP:20260425T092553
CREATED:20250401T225426Z
LAST-MODIFIED:20250401T225426Z
UID:6610-1754496000-1754506800@blushhillcountryclub.com
SUMMARY:Ladies Night
DESCRIPTION:Ladies Night welcomes lady members and non-members to participate in a friendly 9-hole game. Non-members play at a reduced rate. Call for tee times.
URL:https://blushhillcountryclub.com/event/ladies-night-50/
CATEGORIES:Ladies Night
ORGANIZER;CN="Susan Seymour":MAILTO:questions@bhccvt.com
END:VEVENT
BEGIN:VEVENT
DTSTART;TZID=America/Toronto:20250813T160000
DTEND;TZID=America/Toronto:20250813T190000
DTSTAMP:20260425T092553
CREATED:20250401T225602Z
LAST-MODIFIED:20250401T225602Z
UID:6613-1755100800-1755111600@blushhillcountryclub.com
SUMMARY:Ladies Night
DESCRIPTION:Ladies Night welcomes lady members and non-members to participate in a friendly 9-hole game. Non-members play at a reduced rate. Call for tee times.
URL:https://blushhillcountryclub.com/event/ladies-night-51/
CATEGORIES:Ladies Night
ORGANIZER;CN="Susan Seymour":MAILTO:questions@bhccvt.com
END:VEVENT
BEGIN:VEVENT
DTSTART;TZID=America/Toronto:20250820T160000
DTEND;TZID=America/Toronto:20250820T190000
DTSTAMP:20260425T092553
CREATED:20250401T225815Z
LAST-MODIFIED:20250401T225815Z
UID:6616-1755705600-1755716400@blushhillcountryclub.com
SUMMARY:Ladies Night
DESCRIPTION:Ladies Night welcomes lady members and non-members to participate in a friendly 9-hole game. Non-members play at a reduced rate. Call for tee times.
URL:https://blushhillcountryclub.com/event/ladies-night-52/
CATEGORIES:Ladies Night
ORGANIZER;CN="Susan Seymour":MAILTO:questions@bhccvt.com
END:VEVENT
BEGIN:VEVENT
DTSTART;TZID=America/Toronto:20250827T160000
DTEND;TZID=America/Toronto:20250827T190000
DTSTAMP:20260425T092553
CREATED:20250401T225948Z
LAST-MODIFIED:20250401T225948Z
UID:6619-1756310400-1756321200@blushhillcountryclub.com
SUMMARY:Ladies Night
DESCRIPTION:Ladies Night welcomes lady members and non-members to participate in a friendly 9-hole game. Non-members play at a reduced rate. Call for tee times.
URL:https://blushhillcountryclub.com/event/ladies-night-53/
CATEGORIES:Ladies Night
ORGANIZER;CN="Susan Seymour":MAILTO:questions@bhccvt.com
END:VEVENT
BEGIN:VEVENT
DTSTART;TZID=America/Toronto:20250903T153000
DTEND;TZID=America/Toronto:20250903T183000
DTSTAMP:20260425T092553
CREATED:20250406T164720Z
LAST-MODIFIED:20250406T164720Z
UID:6732-1756913400-1756924200@blushhillcountryclub.com
SUMMARY:Ladies Night
DESCRIPTION:Ladies Night welcomes lady members and non-members to participate in a friendly 9-hole game. Non-members play at a reduced rate. Call for tee times.
URL:https://blushhillcountryclub.com/event/ladies-night-54/
CATEGORIES:Ladies Night
ORGANIZER;CN="Susan Seymour":MAILTO:questions@bhccvt.com
END:VEVENT
BEGIN:VEVENT
DTSTART;TZID=America/Toronto:20250910T153000
DTEND;TZID=America/Toronto:20250910T183000
DTSTAMP:20260425T092553
CREATED:20250406T164825Z
LAST-MODIFIED:20250406T164825Z
UID:6735-1757518200-1757529000@blushhillcountryclub.com
SUMMARY:Ladies Night
DESCRIPTION:Ladies Night welcomes lady members and non-members to participate in a friendly 9-hole game. Non-members play at a reduced rate. Call for tee times.
URL:https://blushhillcountryclub.com/event/ladies-night-55/
CATEGORIES:Ladies Night
ORGANIZER;CN="Susan Seymour":MAILTO:questions@bhccvt.com
END:VEVENT
BEGIN:VEVENT
DTSTART;TZID=America/Toronto:20250917T153000
DTEND;TZID=America/Toronto:20250917T183000
DTSTAMP:20260425T092553
CREATED:20250406T164934Z
LAST-MODIFIED:20250406T164934Z
UID:6738-1758123000-1758133800@blushhillcountryclub.com
SUMMARY:Ladies Night
DESCRIPTION:Ladies Night welcomes lady members and non-members to participate in a friendly 9-hole game. Non-members play at a reduced rate. Call for tee times.
URL:https://blushhillcountryclub.com/event/ladies-night-56/
CATEGORIES:Ladies Night
ORGANIZER;CN="Susan Seymour":MAILTO:questions@bhccvt.com
END:VEVENT
BEGIN:VEVENT
DTSTART;TZID=America/Toronto:20250924T153000
DTEND;TZID=America/Toronto:20250924T183000
DTSTAMP:20260425T092553
CREATED:20250406T165309Z
LAST-MODIFIED:20250406T165309Z
UID:6741-1758727800-1758738600@blushhillcountryclub.com
SUMMARY:Ladies Night
DESCRIPTION:Ladies Night welcomes lady members and non-members to participate in a friendly 9-hole game. Non-members play at a reduced rate. Call for tee times.
URL:https://blushhillcountryclub.com/event/ladies-night-57/
CATEGORIES:Ladies Night
ORGANIZER;CN="Susan Seymour":MAILTO:questions@bhccvt.com
END:VEVENT
BEGIN:VEVENT
DTSTART;TZID=America/Toronto:20260527T160000
DTEND;TZID=America/Toronto:20260527T190000
DTSTAMP:20260425T092553
CREATED:20260405T033544Z
LAST-MODIFIED:20260405T033544Z
UID:6816-1779897600-1779908400@blushhillcountryclub.com
SUMMARY:Ladies Night
DESCRIPTION:Member & Non-Member
URL:https://blushhillcountryclub.com/event/ladies-night-46/
CATEGORIES:Ladies Night
ORGANIZER;CN="Susan Seymour":MAILTO:questions@bhccvt.com
END:VEVENT
BEGIN:VEVENT
DTSTART;TZID=America/Toronto:20260603T160000
DTEND;TZID=America/Toronto:20260603T190000
DTSTAMP:20260425T092553
CREATED:20260405T033928Z
LAST-MODIFIED:20260405T033928Z
UID:6822-1780502400-1780513200@blushhillcountryclub.com
SUMMARY:Ladies Night
DESCRIPTION:Member & Non-Member
URL:https://blushhillcountryclub.com/event/ladies-night-58/
CATEGORIES:Ladies Night
ORGANIZER;CN="Susan Seymour":MAILTO:questions@bhccvt.com
END:VEVENT
BEGIN:VEVENT
DTSTART;TZID=America/Toronto:20260610T160000
DTEND;TZID=America/Toronto:20260610T190000
DTSTAMP:20260425T092553
CREATED:20260405T034244Z
LAST-MODIFIED:20260405T034244Z
UID:6828-1781107200-1781118000@blushhillcountryclub.com
SUMMARY:Ladies Night
DESCRIPTION:Member & Non-Member
URL:https://blushhillcountryclub.com/event/ladies-night-59/
CATEGORIES:Ladies Night
ORGANIZER;CN="Susan Seymour":MAILTO:questions@bhccvt.com
END:VEVENT
BEGIN:VEVENT
DTSTART;TZID=America/Toronto:20260617T160000
DTEND;TZID=America/Toronto:20260617T190000
DTSTAMP:20260425T092553
CREATED:20260405T034537Z
LAST-MODIFIED:20260405T034537Z
UID:6834-1781712000-1781722800@blushhillcountryclub.com
SUMMARY:Ladies Night
DESCRIPTION:Member & Non-Member
URL:https://blushhillcountryclub.com/event/ladies-night-60/
CATEGORIES:Ladies Night
ORGANIZER;CN="Susan Seymour":MAILTO:questions@bhccvt.com
END:VEVENT
BEGIN:VEVENT
DTSTART;TZID=America/Toronto:20260624T160000
DTEND;TZID=America/Toronto:20260624T190000
DTSTAMP:20260425T092553
CREATED:20260405T034912Z
LAST-MODIFIED:20260405T034912Z
UID:6840-1782316800-1782327600@blushhillcountryclub.com
SUMMARY:Ladies Night
DESCRIPTION:Member & Non-Members
URL:https://blushhillcountryclub.com/event/ladies-night-61/
CATEGORIES:Ladies Night
ORGANIZER;CN="Susan Seymour":MAILTO:questions@bhccvt.com
END:VEVENT
END:VCALENDAR